BEGIN:VCALENDAR
VERSION:2.0
PRODID:-//https://le-cercle.ch///NONSGML kigkonsult.se iCalcreator 2.10.15//
METHOD:PUBLISH
BEGIN:VEVENT
UID:20260419T151619CEST-8011FLOAxu@https://le-cercle.ch/
DTSTAMP:20260419T131619Z
DESCRIPTION:Et en plus c’est l’occas de fêter l’anniversaire d’Orlando Da V
 inci\, fondateur du concept Nada Màs\, par contre on ne dévoilera pas les 
 années... ? Pour toutes ses raisons\, Nada Màs revient en force pour une n
 ouvelle soirée\, à vos agendas ! Le 1er septembre 2018\, on vous invite à 
 venir fêter tout ça au Cercle avec une belle brochette de djs ?! Bien évid
 emment Orlando Da Vinci\, modérateur de la soirée sera présent accompagné 
 de G. Canela\, Elektroshock et pour vous en mettre plein la figure\, Bukka
 ke ! Réservez la date pour ne pas manquer cette soirée forte en émotions T
 ech- Techhouse ! Allez on s’y voit là-bas les chicos ?• BVKAKKE •Two guys 
 with two handshttps://www.facebook.com/pg/Bvkkakemusichttp://soundcloud.co
 m/bvkkakemusic• ORLANDO DA VINCI •Membre Fondateur label: Vinci Recordings
 http://www.facebook.com/orlandodavincimusichttps://soundcloud.com/orlandod
 avinci• ELECTROSHOCKS •https://www.facebook.com/ElectroShocks.chhttps://so
 undcloud.com/electroshockshttp://www.electroshocks.ch/fr/• WARM UP WITH G.
 CANELA •••• ENTREE •••18 ans révolusCHF 10.- avant minuitCHF 15.- jusqu’a 
 05h00••• TRANSPORT •••Le club se situe à 7 minutes à pieds de la gare de C
 hâteauneuf-ContheyBus navette gratuit depuis Sion••• INFORMATIONS ET RESER
 VATIONS •••Le Cercle ClubRue des industries 91964 ContheyAu sous-sol078 / 
 746-63-49http://www.cercle-club.ch/ - admin@cercle-club.ch https://le-cerc
 le.ch/past-events/evenement/86-nada-mas-bvkakke-orlando-da-vinci-electrosh
 ocks-g-canela.html
DTSTART:20180901T230000Z
DTEND:20180902T050000Z
LOCATION:Le Cercle (Rue des Industries 9 \, Conthey \, Switzerland)
SUMMARY:Nada Mas | Bvkakke • Orlando Da Vinci • Electroshocks • G.Canela
URL:https://le-cercle.ch/past-events/evenement/86-nada-mas-bvkakke-orlando-
 da-vinci-electroshocks-g-canela.html
END:VEVENT
END:VCALENDAR
