BEGIN:VCALENDAR
VERSION:2.0
PRODID:-//https://le-cercle.ch///NONSGML kigkonsult.se iCalcreator 2.10.15//
METHOD:PUBLISH
BEGIN:VEVENT
UID:20260421T100435CEST-9315G9FOoG@https://le-cercle.ch/
DTSTAMP:20260421T080435Z
DESCRIPTION:Samedi 21 JuilletC'est par le Cercle que se poursuivra l'événem
 ent Tipi Techno // Day Event // Vol.1 !https://www.facebook.com/events/147
 761279281256/'Un cadre exceptionnel au milieu du vignoble valaisan\, un Ti
 pi géant\, de la musique électronique\, rassemblés à l’occasion de la prem
 ière Édition du Techno Tipi ! 'AFTER CERCLEGIORGIO MAULINI (Tech-House\, T
 echno)https://www.facebook.com/giomaulini/JEAN SUD ( Deep-House\, Tech-Hou
 se)SORY (Tech-House\, Techno)JAY (Soulful\, Deep-House)LAPLAJA.:ENTREE:.18
  ans révolusCHF 15.- Avec bracelet TipiCHF 10.-.:TRANSPORT:.Le club se sit
 ue à 7 minutes à pieds de la gare de Châteauneuf-ContheyBus navette : en p
 ause durant l'été.:INFORMATIONS ET RESERVATIONS:.Le Cercle ClubRue des ind
 ustries 91964 ContheyAu sous-sol078 / 746-63-49http://www.cercle-club.ch/ 
 - admin@cercle-club.ch https://le-cercle.ch/past-events/evenement/79-le-ce
 rcle-after-tipi-techno-giorgio-maulini.html
DTSTART:20180721T230000Z
DTEND:20180722T050000Z
LOCATION:Le Cercle (Rue des Industries 9 \, Conthey \, Switzerland)
SUMMARY:Le Cercle - After Tipi Techno - Giorgio Maulini
URL:https://le-cercle.ch/past-events/evenement/79-le-cercle-after-tipi-tech
 no-giorgio-maulini.html
END:VEVENT
END:VCALENDAR
