BEGIN:VCALENDAR
VERSION:2.0
PRODID:-//https://le-cercle.ch///NONSGML kigkonsult.se iCalcreator 2.10.15//
METHOD:PUBLISH
BEGIN:VEVENT
UID:20260421T115504CEST-2392MWvlLM@https://le-cercle.ch/
DTSTAMP:20260421T095504Z
DESCRIPTION:◥ Gagnes tes entrées à Cerise sur Electro ◤  Une cerise sera ca
 chée dans la salle du Cercle\, trouves-là\, prends-la en photo et partage-
 la ensuite sur le groupe https://www.facebook.com/groups/cerisesurelectro/
  en oubliant pas au passage de liker la page https://www.facebook.com/Ceri
 se-sur-Electro-festival-335924616485349/ - 1x 2 pass pour le festival et 2
 x 2 entrées seront tirés au sort le 8 mai parmi les photos publiées.   ◥ E
 -Fliger ◤  Dj orienté deep à techno depuis 20 ans\, E-Fliger nous revient 
 de Thaïlande où il était résident du W à Koh Samui pour nous offrir un set
  techno sur vinyle des plus détonnant. https://www.mixcloud.com/gregoireha
 efliger5/ https://www.facebook.com/DjEFLIGER/  ◥ Special K ◤  Passionné de
  musique en tout genre\, Kevin aka Special K propose des sets aux consonan
 ces minimales et originales mais toujours avec une bonne dose de groove. I
 l se produit très régulièrement dans les clubs et bar de la région et vous
  l’avez peut-être entendu sur les ondes de Couleur3\, radio sur laquelle i
 l a été finaliste lors d’un concours de dj en 2014. https://www.mixcloud.c
 om/therealspecialk/ https://www.facebook.com/thespecialkofficial/  ◥ Traya
 d ◤  Dj vétéran du début du siècle \;-) \, ces dernières années Trayad s’e
 st laissé guidé par sa curiosité qui l’a amené à se produire dans différen
 ts styles allant du downtempo à la techno\, en passant entre autre par la 
 minimal roumaine. Il demeure néanmoins fidèle au vinyle et s’exprime avec 
 des techniques de mix travaillées et un choix musical pointu. Pour Le Cerc
 le\, il proposera tout spécialement un set minimal-techno percutant et évo
 lutif. https://www.mixcloud.com/discover/trayad/ https://soundcloud.com/tr
 ayad https://www.facebook.com/Trayad/  ◥ Deefenbecker ◤  Voilà plus d’une 
 décennie que Deefenbecker officie aux commandes des platines en restant en
 core et toujours un fidèle adepte de la “ touche vinyl “. Evoluant sur la 
 scène électronique suisse romande\, sa ligne musicale pointue confère à se
 s sets une orientation minimal groovy\, lourde et soutenue aux sonorités é
 purées et hypnotiques. Fondateur de l’association Helvetek qu’il gère depu
 is neuf ans il met sur pied et organise avec celle-ci plusieurs événements
  en lien avec la culture électronique tel que le “Cerise sur Electro Festi
 val”. https://www.mixcloud.com/Deefenbecker/   .:ENTREE:. 18 ans révolus C
 hf 10.- avant minuit Chf 15.- après  .:TRANSPORT:. Le club est à 7 minutes
  à pieds de la gare de Châteauneuf-Conthey Navette gratuite depuis Sion  .
 :INFORMATIONS ET RESERVATIONS:. Le Cercle Club Rue des industries 9 1964 C
 onthey Au sous-sol 078 / 746-63-49  http://www.cercle-club.ch/ - admin@cer
 cle-club.ch https://le-cercle.ch/past-events/evenement/66-le-cercle-cerise
 -sur-electro.html
DTSTART:20180504T230000Z
DTEND:20180505T050000Z
LOCATION:Le Cercle (Rue des Industries 9 \, Conthey \, Switzerland)
SUMMARY:Le Cercle - Cerise sur Electro
URL:https://le-cercle.ch/past-events/evenement/66-le-cercle-cerise-sur-elec
 tro.html
END:VEVENT
END:VCALENDAR
