BEGIN:VCALENDAR
VERSION:2.0
PRODID:-//https://le-cercle.ch///NONSGML kigkonsult.se iCalcreator 2.10.15//
METHOD:PUBLISH
BEGIN:VEVENT
UID:20260421T171831CEST-4281RLMGUA@https://le-cercle.ch/
DTSTAMP:20260421T151831Z
DESCRIPTION:◥ HARDSTYLE ◤  GIX  https://www.facebook.com/GixHardstyle/  OPS
 YDE https://www.facebook.com/opsyde/  HIGH RESISTANCE https://www.facebook
 .com/HighResistance/  FOXTERZ https://www.facebook.com/FoxterZOfficiel/  G
 HOSTRAXX https://www.facebook.com/GhostraxX-Zapp-Style-324230797987652/  D
 EADLINE https://www.facebook.com/Deadline-1802401346653990/  .:ENTREE:. 18
  ans révolus Chf 10.- avant minuit Chf 15.- après  .:TRANSPORT:. Le club e
 st à 7 minutes à pieds de la gare de Châteauneuf-Conthey  .:INFORMATIONS E
 T RESERVATIONS:. Le Cercle Club Rue des industries 9 1964 Conthey Au sous-
 sol 078 / 746-63-49  http://www.cercle-club.ch/ - admin@cercle-club.ch  .:
 PARTENAIRES:. Hardice https://www.facebook.com/hardice.ch/ Back2Noize http
 s://www.facebook.com/Back2Noize/ https://le-cercle.ch/past-events/evenemen
 t/55-le-cercle-hardstyle.html
DTSTART:20180302T230000Z
DTEND:20180303T050000Z
LOCATION:Le Cercle (Rue des Industries 9 \, Conthey \, Switzerland)
SUMMARY:Le Cercle - Hardstyle
URL:https://le-cercle.ch/past-events/evenement/55-le-cercle-hardstyle.html
END:VEVENT
END:VCALENDAR
