BEGIN:VCALENDAR
VERSION:2.0
PRODID:-//https://le-cercle.ch///NONSGML kigkonsult.se iCalcreator 2.10.15//
METHOD:PUBLISH
BEGIN:VEVENT
UID:20260421T101602CEST-657672UV5O@https://le-cercle.ch/
DTSTAMP:20260421T081602Z
DESCRIPTION:Après avoir sauté un mois\, nous voici de retour en force.  // 
 DJ Simple (ZH) - Trance &amp\; Prog Remember // Goliath - Tarot - OXA http
 s://www.facebook.com/marcel.warren/  // Madwave (VD) - Trance &amp\; Prog 
 Remember // Nature One - Street Parade - Goliath http://www.facebook.com/m
 adwave  // Marco Replay (GE) - Trance &amp\; Prog Remember // Ancien Palai
 s - OXA - Guayas https://www.facebook.com/marcoreplay/  // DJ Alan (VS) - 
 Trance Remember // Energy - Night Town - Las Vegas Sion https://www.facebo
 ok.com/djalan.possa   .:ENTREE:. 18 ans révolus Chf 10.- avant minuit Chf 
 15.- après  .:TRANSPORT:. Le club est à 7 minutes à pieds de la gare de Ch
 âteauneuf-Conthey  .:INFORMATIONS ET RESERVATIONS:. Le Cercle Club Rue des
  industries 9 1964 Conthey Au sous-sol 078 / 746-63-49  http://www.cercle-
 club.ch/ - admin@cercle-club.ch https://le-cercle.ch/past-events/evenement
 /53-prog-trance-remember-dj-simple.html
DTSTART:20180330T230000Z
DTEND:20180331T050000Z
LOCATION:Le Cercle (Rue des Industries 9 \, Conthey \, Switzerland)
SUMMARY:Prog Trance Remember - Dj Simple
URL:https://le-cercle.ch/past-events/evenement/53-prog-trance-remember-dj-s
 imple.html
END:VEVENT
END:VCALENDAR
