BEGIN:VCALENDAR
VERSION:2.0
PRODID:-//https://le-cercle.ch///NONSGML kigkonsult.se iCalcreator 2.10.15//
METHOD:PUBLISH
BEGIN:VEVENT
UID:20260421T102013CEST-360133scld@https://le-cercle.ch/
DTSTAMP:20260421T082013Z
DESCRIPTION:Nous vous avions dit que la suite allait venir plus vite que vo
 us le pensiez. Après la folie furieuse qu’a été la Bear'lin Station 7.0 - 
 Black Lotus\, Mimetic &amp\; more en janvier\, nous nous préparons à ouvri
 r les portes de la seconde soirée de 2018 avec Kyoso (Berlin)\, le neeeeuu
 uuchâtelois Le Poisson Clown\, nos copains Acousmie et notre résident Erma
 tik.  Nous avons remarqué que certains danseurs (ma die que vous avez été 
 nombreux) parmi vous ont donné vie au dancefloor bien avant notre habitude
  lors de la dernière édition\, ce pourquoi nous avons décidé de commencer 
 la soirée du 24 février à 22:00 et non à 23:00. Be there ?  Trêve de bavar
 dage\, présentons nos invités:   Originaire d’Amsterdam\, Kyoso s’est fait
  les dents en jouant dans les bois avec les Boy Scouts de la capitale néer
 landaise\, dont il est résident. Depuis\, le collectif a migré des forêts 
 dans l’église de Ruigoord\, club situé en périphérie d’Amsterdam. Après y 
 avoir fait tremblé tous les vitraux\, il a déménagé à Berlin où il joue ré
 gulièrement.  Le Poisson Clown est un membre clé du collectif neuchâtelois
  Oui Monsieur\, squad bien connue du public romand. Il se produit autant s
 ur scène que sur Four Aces Radio pour laquelle il est d’accord de troquer 
 son portable pour des vinyles. Il saura conduire le public tout au long de
  son set en commençant par une techno douce et prenante pour finir en puis
 sance.  Amis de longue date\, Acousmie sont les pros du live qui partagent
  la même vision de notre musique bien aimée que nous. Duo rodé jusque dans
  les petits détails\, la symbiose des deux artistes se ressent dans leur s
 on qui sait séduire les foules.  Discret dans la vie\, Ermatik change comp
 lètement une fois derrière les platines\, endroit où il se sent autant à l
 ’aise que sur un terrain de pétanque. Véritable puit de créativité\, il pr
 oduit de nombreus tracks et sets dans lesquels il dévoile un arsenal assem
 blé lors de nombreux shows en Suisse ainsi que dans divers clubs berlinois
 .   LINE UP  Kyoso (Boy Scouts)\, Berlin www.facebook.com/Kyosomusic/ http
 s://soundcloud.com/kyosomusic  Le Poisson Clown (Oui Monsieur) www.faceboo
 k.com/lpcouimonsieur/  Acousmie live (Intimist Records)\, 5ENS www.faceboo
 k.com/acousmie www.soundcloud.com/acousmie  Ermatik ( The Limbiic System R
 ecords)\, Bear'lin Station www.facebook.com/Ermatik1 www.soundcloud.com/er
 matik  Entrée: 15.- avant minuit\, 20.- après https://le-cercle.ch/past-ev
 ents/evenement/48-bear-lin-station-8-0-kyoso-berlin.html
DTSTART:20180224T230000Z
DTEND:20180225T050000Z
LOCATION:Le Cercle (Rue des Industries 9 \, Conthey \, Switzerland)
SUMMARY:Bear’lin Station 8.0 - Kyoso (Berlin)
URL:https://le-cercle.ch/past-events/evenement/48-bear-lin-station-8-0-kyos
 o-berlin.html
END:VEVENT
END:VCALENDAR
