BEGIN:VCALENDAR
VERSION:2.0
PRODID:-//https://le-cercle.ch///NONSGML kigkonsult.se iCalcreator 2.10.15//
METHOD:PUBLISH
BEGIN:VEVENT
UID:20260420T151131CEST-9326uWVUZu@https://le-cercle.ch/
DTSTAMP:20260420T131131Z
DESCRIPTION:.ılılı. Résidents Move To The Sound .ılılı. ▬▬▬▬▬▬▬▬▬▬▬▬▬▬▬▬▬▬▬
 ▬▬▬▬ ★★ Denai★★ https://www.facebook.com/DjDenai/ www.movetothesound.com/d
 js  ★★Julian Johnson★★ https://www.facebook.com/julian.johnson.official/ ▬
 ▬▬▬▬▬▬▬▬▬▬▬▬▬▬▬▬▬▬▬▬▬▬ www.movetothesound.com https://www.facebook.com/Mov
 eToTheSound/ ▬▬▬▬▬▬▬▬▬▬▬▬▬▬▬▬▬▬▬▬▬▬▬ .:ENTREE:. 18 ans révolus Chf 10.- av
 ant minuit Chf 15.- après  .:TRANSPORT:. Le club est à 7 minutes à pieds d
 e la gare de Châteauneuf-Conthey  .:INFORMATIONS ET RESERVATIONS:. Le Cerc
 le Club Rue des industries 9 1964 Conthey Au sous-sol 078 / 746-63-49  htt
 p://www.cercle-club.ch/ - admin@cercle-club.ch  .:PARTENAIRES:.  Back2Noiz
 e https://www.facebook.com/Back2Noize/ https://le-cercle.ch/past-events/ev
 enement/45-move-to-the-sound.html
DTSTART:20180216T230000Z
DTEND:20180217T050000Z
LOCATION:Le Cercle (Rue des Industries 9 \, Conthey \, Switzerland)
SUMMARY:Move To The Sound
URL:https://le-cercle.ch/past-events/evenement/45-move-to-the-sound.html
END:VEVENT
END:VCALENDAR
