BEGIN:VCALENDAR
VERSION:2.0
PRODID:-//https://le-cercle.ch///NONSGML kigkonsult.se iCalcreator 2.10.15//
METHOD:PUBLISH
BEGIN:VEVENT
UID:20260420T111155CEST-0320MvtPFX@https://le-cercle.ch/
DTSTAMP:20260420T091155Z
DESCRIPTION:SORY https://www.facebook.com/SORY-119959501524214/  LUCA MAY  
 HARKAM https://www.facebook.com/HarKam-520263524690462/  .:ENTREE:. 18 ans
  révolus Chf 10.- avant minuit Chf 15.- après  .:TRANSPORT:. Le club est à
  7 minutes à pieds de la gare de Châteauneuf-Conthey  .:INFORMATIONS ET RE
 SERVATIONS:. Le Cercle Club Rue des industries 9 1964 Conthey Au sous-sol 
 078 / 746-63-49  http://www.cercle-club.ch/ - admin@cercle-club.ch  .:PART
 ENAIRES:.  Back2Noize https://www.facebook.com/Back2Noize/ https://le-cerc
 le.ch/past-events/evenement/44-tech-house-techno-sory.html
DTSTART:20180210T230000Z
DTEND:20180211T050000Z
LOCATION:Le Cercle (Rue des Industries 9 \, Conthey \, Switzerland)
SUMMARY:Tech house Techno - Sory
URL:https://le-cercle.ch/past-events/evenement/44-tech-house-techno-sory.ht
 ml
END:VEVENT
END:VCALENDAR
