BEGIN:VCALENDAR
VERSION:2.0
PRODID:-//https://le-cercle.ch///NONSGML kigkonsult.se iCalcreator 2.10.15//
METHOD:PUBLISH
BEGIN:VEVENT
UID:20260420T145007CEST-2293M1T4VP@https://le-cercle.ch/
DTSTAMP:20260420T125007Z
DESCRIPTION:◥ TECH HOUSE TECHNO ◤  //// BROWN S ////  https://www.facebook.
 com/brownsgeneva  Formant un trio à la formation du groupe en 2007 mais po
 ursuivant leur chemin à deux\, Brown S (Black Martini et Alex) propage une
  musique qui se balade entre la House et la Tech House.  Se produisant dan
 s les différents clubs et events de référence de la région lémanique\, on 
 notera leur participation lors d'événements de renommée mondiale\; Geneva 
 Lake Festival\, Studio du Montreux Jazz et Paléo Festival. ---------------
 -------------------------------------- /// DAPAREC (D! Club\, Solarscape M
 usic\,ECR Rec)  https://www.facebook.com/Daparec-112847608809858/  Daparec
 \, artiste colombien ayant grandi en Suisse\, est un passionné de musique 
 depuis son plus jeune âge. Sa double nationalité n’est sans doute pas étra
 ngère aux couleurs et aux choix de ses sons musicaux. L’improvisation fait
  également partie intégrante de ses compositions. D’abord bercé par la « T
 rance »\, le « Hard Style » et l’ « Electro House »\, sa musique actuelle 
 oscille entre « Deep House\, « Tech House » aux influences latines et une 
 « Techno » puissante\, sombre et industrielle. » A la fin des années 1990\
 , il développa un intérêt lié à toutes les technologies qui touchent aux s
 ons\, à la lumière et à la vidéo. Successivement\, il se découvre une pass
 ion pour l’art du DJ-ing. C’est à cette époque qu’il reçut ses premières p
 latines et qu’il commença à mettre deux disques au même tempo. Ceci contri
 bua à élargir sa palette artistique. Depuis\, sa passion n’a cessé d’évolu
 er\, l’entraînant dans divers horizons\, tels qu’événements privés\, shows
  radio\, bars\, clubs et festivals\, tant en Suisse qu’à l’étranger.  ----
 ------------------------------------------------------ SDT (D! Club\,) DON
 KY (D! Club\,) ---------------------------------------------------------- 
 .:ENTREE:. 18 ans révolus Chf 15.- avant minuit Chf 20.- après  .:TRANSPOR
 T:. Le club est à 7 minutes à pieds de la gare de Châteauneuf-Conthey  .:I
 NFORMATIONS ET RESERVATIONS:. Le Cercle Club Rue des industries 9 1964 Con
 they Au sous-sol 078 / 746-63-49  http://www.cercle-club.ch/ - admin@cercl
 e-club.ch  .:PARTENAIRES:. Back2Noize https://www.facebook.com/Back2Noize/
  https://le-cercle.ch/past-events/evenement/43-brown-s-tech-house-techno.h
 tml
DTSTART:20180127T230000Z
DTEND:20180128T230000Z
LOCATION:Le Cercle (Rue des Industries 9 \, Conthey \, Switzerland)
SUMMARY:Brown S - Tech House Techno
URL:https://le-cercle.ch/past-events/evenement/43-brown-s-tech-house-techno
 .html
END:VEVENT
END:VCALENDAR
