BEGIN:VCALENDAR
VERSION:2.0
PRODID:-//https://le-cercle.ch///NONSGML kigkonsult.se iCalcreator 2.10.15//
METHOD:PUBLISH
BEGIN:VEVENT
UID:20260421T173145CEST-9788FF5UNU@https://le-cercle.ch/
DTSTAMP:20260421T153145Z
DESCRIPTION:Event Facebook Pour cette édition\, nous recevons le fondateur 
 du label Theracords Dj Thera !! Reconnu pour son énergie débordante et ult
 ra positive sur scène\, il viendra mettre le feu au Le Cercle.  Le slogan 
 de son label 'Music Produced from the Heart' vous donne une idée de sa pas
 sion débordante pour la scène 'Hard Dance'.   ////// THERA (NL) ////// htt
 ps://www.facebook.com/DjTheraOfficial/ https://www.youtube.com/user/DjTher
 a  NONAME https://www.facebook.com/noname.rawhs/  MOLO https://www.faceboo
 k.com/MOLODJs/  ASTRAK https://www.facebook.com/astrak94/  PARAMIND https:
 //www.facebook.com/djparamind/  V-DUSK https://www.facebook.com/dj.vdusk/ 
  .:ENTREE:. 18 ans révolus Chf 15.- avant minuit Chf 20.- après  .:TRANSPO
 RT:. Le club est à 7 minutes à pieds de la gare de Châteauneuf-Conthey  .:
 INFORMATIONS ET RESERVATIONS:. Le Cercle Club Rue des industries 9 1964 Co
 nthey Au sous-sol 078 / 746-63-49  http://www.cercle-club.ch/ - admin@cerc
 le-club.ch  .:PARTENAIRES:. Hardice  https://www.facebook.com/hardice.ch/ 
 Back2Noize https://www.facebook.com/Back2Noize/ https://le-cercle.ch/past-
 events/evenement/41-hardstyle-thera.html
DTSTART:20180209T230000Z
DTEND:20180210T050000Z
LOCATION:Le Cercle (Rue des Industries 9 \, Conthey \, Switzerland)
SUMMARY:Hardstyle - THERA
URL:https://le-cercle.ch/past-events/evenement/41-hardstyle-thera.html
END:VEVENT
END:VCALENDAR
