BEGIN:VCALENDAR
VERSION:2.0
PRODID:-//https://le-cercle.ch///NONSGML kigkonsult.se iCalcreator 2.10.15//
METHOD:PUBLISH
BEGIN:VEVENT
UID:20260420T144521CEST-9972C1tvIv@https://le-cercle.ch/
DTSTAMP:20260420T124521Z
DESCRIPTION:EVENT FACEBOOK --&gt\;Nous ouvrons le bal avec la berlinoise Bl
 ack Lotus\, nouvelle résidente du club berlinois Golden Gate. Ayant fait s
 es preuves dans de nombreux clubs tel que le KitKat\, l'Anomalie et le Sui
 cide Circus\, elle jouera pour la première fois en Suisse sous notre emblè
 me. Folle amoureuse de son équipement analogique\, elle travaille actuelle
 ment sur son premier EP\, mélange d'une techno profonde\, hypnotique et in
 dustrielle.  Neuf albums\, dix-huit ans de tournée\, on peut dire que le g
 enevois MIMETIC n'aura aucune peine à prouver que sa réputation est fondée
  en béton armé. Directeur artistique de l'audio Club à Genève\, il a sillo
 nné l'Europe et joué aux côtés de Surgeon\, Helena Hauff\, The Hacker\, Pa
 ula Tempel\, Miss Kittin\, Rødhåd ou encore Roman Flügel. La couleur est a
 nnoncée...  Quant au dernier venu\, nous sommes allé chercher dans les cat
 acombes de l’Église\, sombre projet qui a vu le jour l'année dernière au P
 ort Franc\, à Sion. Mr.Doe\, que nous avons invité lors de notre troisième
  événement aux côtés d’Introversion\, reviendra prêcher la parole du seign
 eur en tant que représentant des new comers valaisans.  Et finalement\, cô
 té Bear'lin Station\, ce sera aux coquins Bukkake de vous en mettre plein 
 les oreilles à leur aise.   LINE UP  Black Lotus - Luminal rec.\, female:p
 ressure\, Berlin www.soundcloud.com/blcklts http://www.blcklts.com/ www.fa
 cebook.com/BLCKLTS27  MIMETIC - Audio Club\, Electron Unlimited\, Genève w
 ww.soundcloud.com/mimetic www.facebook.com/mimeticofficial  Mr.Doe - l'Égl
 ise www.soundcloud.com/mrdoetm www.facebook.com/mrdoemusic  BUKKAKE - Bear
 'lin Station Surprise MTHFCKR!   Entrée: 15.- avant minuit\, 20.- après   
 Réservez votre soirée du 20 janvier\, on commence 2018 en lourdeur... http
 s://le-cercle.ch/past-events/evenement/39-bear-lin-station-7-0-black-lotus
 -mimetic-more.html
DTSTART:20180120T230000Z
DTEND:20180121T050000Z
LOCATION:Le Cercle (Rue des Industries 9 \, Conthey \, Switzerland)
SUMMARY:Bear'lin Station 7.0 - Black Lotus\, Mimetic & more
URL:https://le-cercle.ch/past-events/evenement/39-bear-lin-station-7-0-blac
 k-lotus-mimetic-more.html
END:VEVENT
END:VCALENDAR
