BEGIN:VCALENDAR
VERSION:2.0
PRODID:-//https://le-cercle.ch///NONSGML kigkonsult.se iCalcreator 2.10.15//
METHOD:PUBLISH
BEGIN:VEVENT
UID:20260420T144747CEST-4637pPVMSe@https://le-cercle.ch/
DTSTAMP:20260420T124747Z
DESCRIPTION:Ancien résident du fameux club TENAX et actuel résident du MIND
  en Italy\, il a joué partout en Europe du Sonar de Barcelone à l'ADE d'Am
 sterdam en passant par Ibiza...  Une Tech house grasse et une Techno à vou
 s faire dans le pantalon\, quoi de mieux pour vous secouer les restes de n
 ouvel an! --------- 15.- avant minuit 20.- après ------------ https://le-c
 ercle.ch/past-events/evenement/37-luca-bear-it-tech-house-techno-night.htm
 l
DTSTART:20180112T230000Z
DTEND:20180113T050000Z
LOCATION:Le Cercle (Rue des Industries 9 \, Conthey \, Switzerland)
SUMMARY:Luca Bear (IT) / Tech house\, Techno Night
URL:https://le-cercle.ch/past-events/evenement/37-luca-bear-it-tech-house-t
 echno-night.html
END:VEVENT
END:VCALENDAR
