BEGIN:VCALENDAR
VERSION:2.0
PRODID:-//https://le-cercle.ch///NONSGML kigkonsult.se iCalcreator 2.10.15//
METHOD:PUBLISH
BEGIN:VEVENT
UID:20260420T150657CEST-4231IwvogD@https://le-cercle.ch/
DTSTAMP:20260420T130657Z
DESCRIPTION:◥ HARDSTYLE ◤  GIX  https://www.facebook.com/GixHardstyle/  NON
 AME https://www.facebook.com/noname.rawhs/  FOXTERZ https://www.facebook.c
 om/FoxterZOfficiel/  GHOSTRAXX https://www.facebook.com/GhostraxX-Zapp-Sty
 le-324230797987652/   .:ENTREE:. 18 ans révolus Chf 10.- avant minuit Chf 
 15.- après  .:TRANSPORT:. Le club est à 7 minutes à pieds de la gare de Ch
 âteauneuf-Conthey  .:INFORMATIONS ET RESERVATIONS:. Le Cercle Club Rue des
  industries 9 1964 Conthey Au sous-sol 078 / 746-63-49  http://www.cercle-
 club.ch/ - admin@cercle-club.ch https://le-cercle.ch/past-events/evenement
 /36-le-cercle-hardstyle.html
DTSTART:20180105T230000Z
DTEND:20180106T050000Z
LOCATION:Le Cercle (Rue des Industries 9 \, Conthey \, Switzerland)
SUMMARY:Le Cercle - Hardstyle
URL:https://le-cercle.ch/past-events/evenement/36-le-cercle-hardstyle.html
END:VEVENT
END:VCALENDAR
