BEGIN:VCALENDAR
VERSION:2.0
PRODID:-//https://le-cercle.ch///NONSGML kigkonsult.se iCalcreator 2.10.15//
METHOD:PUBLISH
BEGIN:VEVENT
UID:20260422T104826CEST-95599KkCFB@https://le-cercle.ch/
DTSTAMP:20260422T084826Z
DESCRIPTION:Electrypnose [CH] Zenon Records https://soundcloud.com/electryp
 nose  Kliment &amp\; Once upon a time [Bulgarie] Zenon Records https://sou
 ndcloud.com/kliment https://soundcloud.com/once-upon-a-time-music  -- DECO
  -- Psypotatoes  --ENTREE-- 18 ans révolus Chf 15.- avant minuit Chf 20.- 
 après  --TRANSPORT-- Le club est à 7 minutes à pieds de la gare de Château
 neuf-Conthey  --INFORMATIONS ET RESERVATIONS-- Le Cercle Club Rue des indu
 stries 9 1964 Conthey Au sous-sol 078 / 746-63-49  http://www.cercle-club.
 ch/ - admin@cercle-club.ch https://le-cercle.ch/past-events/evenement/35-p
 sypotatoes-electrypnose-kliment.html
DTSTART:20180126T230000Z
DTEND:20180127T050000Z
LOCATION:Le Cercle (Rue des Industries 9 \, Conthey \, Switzerland)
SUMMARY:Psypotatoes - Electrypnose & Kliment
URL:https://le-cercle.ch/past-events/evenement/35-psypotatoes-electrypnose-
 kliment.html
END:VEVENT
END:VCALENDAR
