BEGIN:VCALENDAR
VERSION:2.0
PRODID:-//https://le-cercle.ch///NONSGML kigkonsult.se iCalcreator 2.10.15//
METHOD:PUBLISH
BEGIN:VEVENT
UID:20260421T114800CEST-00473FUkng@https://le-cercle.ch/
DTSTAMP:20260421T094800Z
DESCRIPTION:◥ TECH HOUSE ◤  PIABLO MENDES https://www.facebook.com/pablo.me
 ndes.official/  JODAROX https://www.facebook.com/DJ.JODAROX/  SPECIAL K ht
 tps://www.facebook.com/thespecialkofficial/  .:ENTREE:. 18 ans révolus Chf
  10.- avant minuit Chf 15.- après  .:TRANSPORT:. Le club est à 7 minutes à
  pieds de la gare de Châteauneuf-Conthey  .:INFORMATIONS ET RESERVATIONS:.
  Le Cercle Club Rue des industries 9 1964 Conthey Au sous-sol 078 / 746-63
 -49  https://le-cercle.ch/past-events/evenement/33-le-cercle-tech-house.ht
 ml
DTSTART:20180106T230000Z
DTEND:20180107T230000Z
LOCATION:Le Cercle (Rue des Industries 9 \, Conthey \, Switzerland)
SUMMARY:Le Cercle - Tech House
URL:https://le-cercle.ch/past-events/evenement/33-le-cercle-tech-house.html
END:VEVENT
END:VCALENDAR
