BEGIN:VCALENDAR
VERSION:2.0
PRODID:-//https://le-cercle.ch///NONSGML kigkonsult.se iCalcreator 2.10.15//
METHOD:PUBLISH
BEGIN:VEVENT
UID:20260420T131847CEST-1871Cuh4WB@https://le-cercle.ch/
DTSTAMP:20260420T111847Z
DESCRIPTION:.:29 septembre 2017 :. ◥ PROG &amp\; TRANCE REMEMBER ◤ Pour ce 
 vendredi\, on passe par un grand retour aux sources et de l'époque qui a é
 té l'âge d'or du clubbing pour beaucoup. ?Madwave - Trance &amp\; Prog Rem
 ember? SYNERGY - Mindcontrol - Street Parade http://www.facebook.com/madwa
 ve ?Code Red - Prog Remember? Mindcontrol - Guayas - Markhalle https://www
 .facebook.com/DJ-Code-Red-273989166806 ?Dr. Djekill - Prog Remember? Guaya
 s - Veaudoux - V-SO https://www.facebook.com/Djekill-1140805175958188 ?Dr.
  Yxam - Trance Remember? Xpressive - trance4life - Tropi Ibiza https://www
 .facebook.com/dryxam ?Yellow Dee - Prog Remember? Mindcontrol - Kheops - L
 es Prisons https://www.facebook.com/djyellowdee :ENTREE:. 18 ans révolus C
 hf 10.- avant minuit Chf 15.- après .:TRANSPORT:. Le club est à 7 minutes 
 à pieds de la gare de Châteauneuf-Conthey .:INFORMATIONS ET RESERVATIONS:.
  Le Cercle Club Rue des industries 9 1964 Conthey Au sous-sol 078 / 746-63
 -49 http://www.cercle-club.ch/ - admin@cercle-club.ch .:PARTENAIRES:. Syne
 rgy Events https://www.facebook.com/synergyofficiel/ TranceUnited Switzerl
 and: https://www.facebook.com/tranceunitedswitzerland/ https://le-cercle.c
 h/past-events/evenement/24-le-cercle-prog-trance-remember.html
DTSTART:20170929T210000Z
DTEND:20170930T030000Z
LOCATION:Le Cercle (Rue des Industries 9 \, Conthey \, Switzerland)
SUMMARY:Le Cercle - Prog & Trance Remember
URL:https://le-cercle.ch/past-events/evenement/24-le-cercle-prog-trance-rem
 ember.html
END:VEVENT
END:VCALENDAR
