BEGIN:VCALENDAR
VERSION:2.0
PRODID:-//https://le-cercle.ch///NONSGML kigkonsult.se iCalcreator 2.10.15//
METHOD:PUBLISH
BEGIN:VEVENT
UID:20260421T101814CEST-5771fc9PCx@https://le-cercle.ch/
DTSTAMP:20260421T081814Z
DESCRIPTION:/ Madwave (VD) //Future Sound Of Egypt - Street Parade - Nature
  One\nhttp://www.facebook.com/madwave\n\n// Sunryz (BE) //Goliath\, Fantas
 ialand\, Alaska Night\nhttps://www.facebook.com/djsunryz/\n\n// Nostradamu
 s (FR) //Globull\, Marzan Escape\, Trance Exclusive\nhttps://www.facebook.
 com/nostrasounddj\n\n// Faktor Z (VS) //Impulsive Sound\, Trance Clubbing
 \nhttps://www.facebook.com/djfaktorz\n\n.:ENTRÉE:.18 ans révolusChf 10.- a
 vant minuitChf 15.- après https://le-cercle.ch/past-events/evenement/221-t
 rance-remember-vinyls-only.html
DTSTART:20181109T230000Z
DTEND:20181110T050000Z
LOCATION:Le Cercle (Rue des Industries 9 \, Conthey \, Switzerland)
SUMMARY:Trance Remember 'Vinyls Only'
URL:https://le-cercle.ch/past-events/evenement/221-trance-remember-vinyls-o
 nly.html
END:VEVENT
END:VCALENDAR
