BEGIN:VCALENDAR
VERSION:2.0
PRODID:-//https://le-cercle.ch///NONSGML kigkonsult.se iCalcreator 2.10.15//
METHOD:PUBLISH
BEGIN:VEVENT
UID:20260421T114411CEST-6285d2c1Z5@https://le-cercle.ch/
DTSTAMP:20260421T094411Z
DESCRIPTION:Dernier cas d’étude:Nécrose fig.2 w/ The Driver aka Manu le Mal
 i\nNouveau cas d’étude:Nécrose fig.3\nSalle d’opération:Le Cercle\nChirurg
 iens en pratique:\nBukkake \nAcousmie\n\nDark Modular\nMa Čka (Mekanikal B
 loodshed) \n\n\nManuHeme (Infxted Records) \nL’autopsie sera réalisé à par
 tir de 23h00 le samedi 26 mai https://le-cercle.ch/past-events/evenement/2
 14-necrose-fig-3.html
DTSTART:20180526T230000Z
DTEND:20180527T212853Z
LOCATION:Le Cercle (Rue des Industries 9 \, Conthey \, Switzerland)
SUMMARY:Necrose fig.3
URL:https://le-cercle.ch/past-events/evenement/214-necrose-fig-3.html
END:VEVENT
END:VCALENDAR
