BEGIN:VCALENDAR
VERSION:2.0
PRODID:-//https://le-cercle.ch///NONSGML kigkonsult.se iCalcreator 2.10.15//
METHOD:PUBLISH
BEGIN:VEVENT
UID:20260421T114135CEST-12594P5TWt@https://le-cercle.ch/
DTSTAMP:20260421T094135Z
DESCRIPTION:FURYAN (NL)\nhttps://www.facebook.com/FuryanMedia/\n\nTHE DISSI
 DENT\nhttps://www.facebook.com/thedissidentofficial/\n\nBIOUX\nhttps://www
 .facebook.com/Bioux-1481175678657234/\n\nALEX XS\nHARDICTIVE\nhttps://www.
 facebook.com/Hardictive/\n\n.:ENTREE:.18 ans révolusChf 10.- avant minuitC
 hf 15.- après https://le-cercle.ch/past-events/evenement/213-le-cercle-har
 dcore-furyan.html
DTSTART:20180525T230000Z
DTEND:20180526T050000Z
LOCATION:Le Cercle (Rue des Industries 9 \, Conthey \, Switzerland)
SUMMARY:Le Cercle - Hardcore - Furyan
URL:https://le-cercle.ch/past-events/evenement/213-le-cercle-hardcore-furya
 n.html
END:VEVENT
END:VCALENDAR
