BEGIN:VCALENDAR
VERSION:2.0
PRODID:-//https://le-cercle.ch///NONSGML kigkonsult.se iCalcreator 2.10.15//
METHOD:PUBLISH
BEGIN:VEVENT
UID:20260421T102106CEST-9217lHk5Rr@https://le-cercle.ch/
DTSTAMP:20260421T082106Z
DESCRIPTION:On met la seconde et on passe à la vitesse supérieure. En atten
 dant le premier vinyl du label nous avons le plaisir de vous inviter au pr
 emier event UCR. Et pour une label night qui d’autre qu’un des artistes pr
 ésents sur la release 001? Autant vous le dire tout de suite\, cette soiré
 e laissera des traces\, physiques\, auditives et cérébrales!\n▂▂▂▂▂▂▂▂▂▂▂▂
 ▂▂▂\n JOTON (E) NewRhythmic // Raw Raw\nJoton est synonyme de techno sombr
 e\, industrielle\, futuriste et sensible\, le tout mélangé à la précision 
 et la rapidité d'un chirurgien. Sa personnalité puissante et son charisme 
 marqué\, en tant que DJ et producteur\, reposent sur une maturité stylisti
 que\, une sérénité professionnelle et un critère artistique bien fondé. Vo
 us ne comprendrez pas ce qui vous arrivera en écoutant ses sonorités indus
 triel\, analogique et mécanique sorties tout droit de la moelle même de la
  techno. C'est physique\, émoussé\, modulaire et excitant.\n \n UNCONFORMI
 ST (CH) Underground Connexion Records\nNe pas se conformer à une norme ou 
 à un modèle de comportement ou de pensée socialement approuvée.\n JAKO (CH
 ) Underground Connexion Records\nL’exilé berlinois du crew sera de passage
  en Suisse et il vient pas en touriste!!\n JOHNNIE WLAKER (CH) Underground
  Connexion Records\nLui quand il prend les commandes c’est pas pour faire 
 dans le social!\n▂▂▂▂▂▂▂▂▂▂▂▂▂▂▂\nLINKS\n► https://soundcloud.com/joton► h
 ttps://soundcloud.com/unconformist► www.soundcloud.com/jak1o► soundcloud.c
 om/sandro-borraccino https://le-cercle.ch/past-events/evenement/212-underg
 round-connexion-records-label-night-1-w-joton.html
DTSTART:20180519T230000Z
DTEND:20180520T050000Z
LOCATION:Le Cercle (Rue des Industries 9 \, Conthey \, Switzerland)
SUMMARY:Underground Connexion records - Label Night #1 w/ Joton
URL:https://le-cercle.ch/past-events/evenement/212-underground-connexion-re
 cords-label-night-1-w-joton.html
END:VEVENT
END:VCALENDAR
