BEGIN:VCALENDAR
VERSION:2.0
PRODID:-//https://le-cercle.ch///NONSGML kigkonsult.se iCalcreator 2.10.15//
METHOD:PUBLISH
BEGIN:VEVENT
UID:20260421T101953CEST-75815GilLF@https://le-cercle.ch/
DTSTAMP:20260421T081953Z
DESCRIPTION: Le jour se lève peu à peu\, les derniers vrombissements raison
 nent et déjà la \nBi:Chromie - 5ENS meets Bear'lin Station\n referme ses p
 ortes. Une plénitude envahi la \nHalle W Genève\n et des étoiles sont dans
  les yeux (et surtout les oreilles) de chacun. Le staff s’active et en un 
 tour de main\, le club reprend son aspect originel. Autant vous dire qu’on
  ne va pas s’arrêter en si bon chemin!\nAfin de réitérer cette expérience 
 magique et tenter de vous transporter une fois de plus à Berlin\, notre éq
 uipe a décidé de lancer un con concept 'Bear'lin Station Invites' qui cons
 iste à acceuillir des collectifs entiers. En ce samedi 28 octobre\, ce ser
 a au tour des berlinois de Freaky Friday et aux fribourgeois \nStudio 1157
 \n Promis\, ça va être le feu!\n \n Damit die \nBi:Chromie - 5ENS meets Be
 ar'lin Station\n in der \nHalle W Genève\n in Genf nicht zu schnell in Ver
 gessenheit gerät\, machen wir direkt weiter und planen bereits das nächste
  spektakuläre Ereignis! Dieses Mal sind jedoch wir mit einer Einladung an 
 der Reihe. Unser Team startet in zwei Wochen das Konzept 'Bear'lin Station
  Invites'. Neben den Berlinern von Freaky Friday\, laden wir auch das \nSt
 udio 1157\n aus Freibourg am 28. Oktober ins \nLe Cercle\n in Conthey ein!
  Bereitet euch vor\, wir werden wieder ein aufregendes Rendez-Vous haben\,
  was euch sehr gut gefallen wird\, versprochen!\n \nLINE-UP:\nAROUS LEF B2
 B ROMÅ: Freaky Friday (Berlin)www.soundcloud.com/arous\nSAINTE HARARE\, \n
 Studio 1157\n (Fribourg)www.soundcloud.com/saviovalentin\nAcademist\, \nSt
 udio 1157\n (Fribourg)www.soundcloud.com/academistwww.facebook.com/Academi
 st/\nFREAKY FRIDAYwww.hearthis.at/freakyfridaytechno/?l=de\nSTUDIO 1157www
 .soundcloud.com/studio1157\nwww.facebook.com/studio1157/\n\n\nZ3nar\n\, Be
 ar'lin Stationwww.soundcloud.com/z3nar\nwww.facebook.com/Z3nar-30613533183
 0\n\n \nEntrée: 15.- avant minuit\, 20.- après\nEintritt: 15.- vor Mittern
 acht\, 20.- danach https://le-cercle.ch/past-events/evenement/203-bear-lin
 -station-invites-freaky-friday-berlin-studio-1157.html
DTSTART:20171028T230000Z
DTEND:20171029T050000Z
LOCATION:Le Cercle (Rue des Industries 9 \, Conthey \, Switzerland)
SUMMARY:Bear'lin Station invites Freaky Friday (Berlin) & Studio 1157
URL:https://le-cercle.ch/past-events/evenement/203-bear-lin-station-invites
 -freaky-friday-berlin-studio-1157.html
END:VEVENT
END:VCALENDAR
