BEGIN:VCALENDAR
VERSION:2.0
PRODID:-//https://le-cercle.ch///NONSGML kigkonsult.se iCalcreator 2.10.15//
METHOD:PUBLISH
BEGIN:VEVENT
UID:20260421T101547CEST-4942V9Pgt5@https://le-cercle.ch/
DTSTAMP:20260421T081547Z
DESCRIPTION:Les fêtes approchent et c'est l’occasion pour nous d’organiser 
 un événement qui vous permettra de taper du pied\, tout en faisant une bon
 ne action.Comment ? :A l'occasion de cette soirée\, la recette des entrées
  sera intégralement reversée à l'association Refuge La Bouche qui ritL’ass
 ociation dirigée par la famille Pichard\, a près de cinq ans d’existence e
 t a sauvé près de 300 animaux. Des chèvres\, des poules\, des chevaux et d
 ’autres animaux maltraités ou abandonnés.Plus d’info ici : https://www.fac
 ebook.com/refugelabouchequirit1920 .:LINE-UP:. ° ManuHeme° MARAM ° Ben Jaw
 .:ENTRÉE:.18 ans révolusCHF 10.- avant minuitCHF 15.- après.:ACCÈS:.Route 
 de l'Industrie 9\, 1964 Conthey\, Valais Bus nocturne ligne Martigny - Sio
 n : https://www.postauto.ch/fr/sion-martigny-vsTrain : le club se situe à 
 7 minutes à pieds de la gare de Châteauneuf-ContheyVoiture : grand parking
  gratuit et sécurisé à votre disposition .:INFORMATIONS ET RÉSERVATIONS:.+
 41 (0) 27 346 00 00info@cercle-club.chhttp://www.cercle-club.ch/ .:PARTENA
 IRES:.Back2Noizehttps://www.facebook.com/Back2Noize/.:SOUNDCLOUD:.https://
 soundcloud.com/cercle-octave⚫Venez comme vous êtes! Ici pas de selfie ni d
 e photographe\, mais un seul mot d’ordre\, vous faire perdre la notion du 
 temps!Le Cercle Club s'efforce de créer des espaces safes. Les comportemen
 ts oppressants ne seront pas tolérés. Le staff est là pour vous.⚫ https://
 le-cercle.ch/past-events/evenement/196-heart-beats.html
DTSTART:20191230T230000Z
DTEND:20191231T050000Z
LOCATION:Le Cercle (Rue des Industries 9 \, Conthey \, Switzerland)
SUMMARY:HEART BEATS
URL:https://le-cercle.ch/past-events/evenement/196-heart-beats.html
END:VEVENT
END:VCALENDAR
