BEGIN:VCALENDAR
VERSION:2.0
PRODID:-//https://le-cercle.ch///NONSGML kigkonsult.se iCalcreator 2.10.15//
METHOD:PUBLISH
BEGIN:VEVENT
UID:20260421T101752CEST-49179KfAsj@https://le-cercle.ch/
DTSTAMP:20260421T081752Z
DESCRIPTION:.:LINE-UP:.° MIMETIC° Puma DJ° La Foret.:ENTRÉE:.18 ans révolus
 CHF 10.- avant minuitCHF 15.- après.:ACCÈS:.Route de l'Industrie 9\, 1964 
 Conthey\, Valais Bus nocturne ligne Martigny - Sion : https://www.postauto
 .ch/fr/sion-martigny-vsTrain : le club se situe à 7 minutes à pieds de la 
 gare de Châteauneuf-ContheyVoiture : grand parking gratuit et sécurisé à v
 otre disposition .:INFORMATIONS ET RÉSERVATIONS:.+41 (0) 27 346 00 00info@
 cercle-club.chhttp://www.cercle-club.ch/ .:PARTENAIRES:.Back2Noizehttps://
 www.facebook.com/Back2Noize/.:SOUNDCLOUD:.https://soundcloud.com/cercle-oc
 tave⚫Venez comme vous êtes! Ici pas de selfie ni de photographe\, mais un 
 seul mot d’ordre\, vous faire perdre la notion du temps!Le Cercle Club s'e
 fforce de créer des espaces safes. Les comportements oppressants ne seront
  pas tolérés. Le staff est là pour vous.⚫ https://le-cercle.ch/past-events
 /evenement/195-le-cercle-invite-l-audio.html
DTSTART:20191228T230000Z
DTEND:20191229T050000Z
LOCATION:Le Cercle (Rue des Industries 9 \, Conthey \, Switzerland)
SUMMARY:Le Cercle invite l'audio
URL:https://le-cercle.ch/past-events/evenement/195-le-cercle-invite-l-audio
 .html
END:VEVENT
END:VCALENDAR
