BEGIN:VCALENDAR
VERSION:2.0
PRODID:-//https://le-cercle.ch///NONSGML kigkonsult.se iCalcreator 2.10.15//
METHOD:PUBLISH
BEGIN:VEVENT
UID:20260421T102136CEST-1642VIOUpv@https://le-cercle.ch/
DTSTAMP:20260421T082136Z
DESCRIPTION:Après avoir retourné les grands clubs de Suisse romande et le d
 ernier Montreux Jazz Festival\, Chaleur Cosmique envoie son émissaire Mirl
 aqi représenter la passion du collectif pour la musique électronique.Mirla
 qiAvec une premier vinyle sorti sur Star Creature\, le dynamique label de 
 Chicago\, et une nouvelle sortie prévue sur le label zurichois hommes du m
 onde\, Mirlaqi est l'un des producteurs suisses lesplus actifs actuellemen
 t. Que ce soit en DJ set ou en live électronique\, l'éclectisme de ses gro
 ove offre un voyage à travers les nombreuses déclinaisons de la dance musi
 c : house\, disco\, et techno sur un fond de percussions profondes et chal
 eureuses.A ne pas manquer !https://soundcloud.com/mirlaqihttps://www.resid
 entadvisor.net/dj/mirlaqihttps://www.instagram.com/mirlaqi/https://www.fac
 ebook.com/mirlaqi/André MarvinDepuis début 2018\, la « home of good music 
 » de Zurich\, le Club Zukunft\, compte André Marvin parmi ses DJs les plus
  réguliers. Après tout\, AM fait partie de la scène locale depuis longtemp
 s avec sa série d'événements appelés Cosmic Livingroom. Avec des invités t
 els que Sekan\, Cerulean\, Melodiesinfonie\, Na Dee\, Frank Spirit et bien
  d'autres\, l'objectif est d'apporter une musiqueexpressive et intense au 
 public.AM est passé maître dans l'art de partager sa collection pointue de
  disques grâce à des émissions de radio sur GDS.FM à Zurich et Radio Bollw
 erk à Berne ainsi que des passages remarqués sur lesradio internationales 
 que sont Red Light Radio à Amsterdam ou Radio 8000 à Munich\, Engagé dans 
 plusieurs labels et en particulier à la tête de hommes du monde\, AM souti
 ent des artistes de Zurich\, Berne\, Bâle et depuis peu Genève.https://sou
 ndcloud.com/andre-marvinhttps://www.residentadvisor.net/dj/andremarvinhttp
 s://www.facebook.com/acid.andre.marvin.:ENTRÉE:. COMPREND La Boum du Valai
 s : 80's 90's 2000's18 ans révolusCHF 15.- Prélocation : www.octave.events
 CHF 20.- Sur place.:ACCÈS:.Route de l'Industrie 9\, 1964 Conthey\, Valais 
 Bus nocturne ligne Martigny - Sion : https://www.postauto.ch/fr/sion-marti
 gny-vsTrain : le club se situe à 7 minutes à pieds de la gare de Châteaune
 uf-ContheyVoiture : grand parking gratuit et sécurisé à votre disposition 
 .:INFORMATIONS ET RÉSERVATIONS:.+41 (0) 27 346 00 00info@cercle-club.chhtt
 p://www.cercle-club.ch/ .:PARTENAIRES:.Back2Noizehttps://www.facebook.com/
 Back2Noize/.:SOUNDCLOUD:.https://soundcloud.com/cercle-octave⚫Venez comme 
 vous êtes! Ici pas de selfie ni de photographe\, mais un seul mot d’ordre\
 , vous faire perdre la notion du temps!Le Cercle Club s'efforce de créer d
 es espaces safes. Les comportements oppressants ne seront pas tolérés. Le 
 staff est là pour vous.⚫ https://le-cercle.ch/past-events/evenement/191-be
 yond-the-sea-of-sand-groove-house-at-le-cercle.html
DTSTART:20191214T230000Z
DTEND:20191215T050000Z
LOCATION:Le Cercle (Rue des Industries 9 \, Conthey \, Switzerland)
SUMMARY:Beyond the Sea of Sand - Groove House at Le Cercle
URL:https://le-cercle.ch/past-events/evenement/191-beyond-the-sea-of-sand-g
 roove-house-at-le-cercle.html
END:VEVENT
END:VCALENDAR
