BEGIN:VCALENDAR
VERSION:2.0
PRODID:-//https://le-cercle.ch///NONSGML kigkonsult.se iCalcreator 2.10.15//
METHOD:PUBLISH
BEGIN:VEVENT
UID:20260421T101628CEST-5380wNdoUW@https://le-cercle.ch/
DTSTAMP:20260421T081628Z
DESCRIPTION:Avec près d'une décennie dans le panorama de la musique électro
 nique suisse romande\, Back2Noize Radio continue avec sa cinquième soirée 
 en club.Viens découvrir notre univers musical et les passionnés qui font v
 ivre cette association dont vous avez sûrement déjà entendu parler à trave
 rs nos lives\, nos podcasts et nos émissions de la web radio n°1 en son ge
 nre en Suisse !\n➡ LINE-UP ?House - Tech House - Melodic House - TechnoBen
 zaiD (House)https://www.facebook.com/BenzaiDDj/Miss M'GY (Tech House)https
 ://www.facebook.com/djmissmgy/FEEL ING B (Melodic House)https://www.facebo
 ok.com/feelingb.dj/Pete Rysel (Melodic House &amp\; Techno)https://www.fac
 ebook.com/peterysel/HER-A (Techno)https://www.facebook.com/heraoff/NIKI D 
 (Techno)https://www.facebook.com/NIKID.Djane/▂▂▂▂▂▂▂▂▂▂▂▂▂▂▂▂▂▂▂▂▂▂➡ ENTRÉ
 E ?18 ans révolusCHF 10.- avant minuitCHF 15.- après▂▂▂▂▂▂▂▂▂▂▂▂▂▂▂▂▂▂▂▂▂▂
 ➡ ACCÈS ?Route de l'Industrie 9\, 1964 Conthey\, Valais Bus nocturne ligne
  Martigny - Sion : https://www.postauto.ch/fr/sion-martigny-vsTrain : le c
 lub se situe à 7 minutes à pieds de la gare de Châteauneuf-ContheyVoiture 
 : grand parking gratuit et sécurisé à votre disposition ▂▂▂▂▂▂▂▂▂▂▂▂▂▂▂▂▂▂
 ▂▂▂▂➡ INFORMATIONS ET RÉSERVATIONS ?+41 (0) 27 346 00 00info@cercle-club.c
 hhttp://www.cercle-club.ch/ ▂▂▂▂▂▂▂▂▂▂▂▂▂▂▂▂▂▂▂▂▂▂➡ B2N CONNECT ?➥ SoundCl
 oud : https://bit.ly/B2N_Soundcloud➥ YouTube : https://bit.ly/B2N_Youtube➥
  Spotify : https://bit.ly/B2N_Spotify➥ iTunes : https://bit.ly/B2N_iTunes➥
  MixCloud : https://bit.ly/B2N_Mixcloud➥ Instagram : https://bit.ly/B2N_In
 stagram➥ Twitter : https://bit.ly/B2N_Twitter➥ Facebook : https://bit.ly/B
 2N_Facebook▂▂▂▂▂▂▂▂▂▂▂▂▂▂▂▂▂▂▂▂▂▂ https://le-cercle.ch/past-events/eveneme
 nt/180-le-cercle-techthat-by-back2noize.html
DTSTART:20191025T230000Z
DTEND:20191026T050000Z
LOCATION:Le Cercle (Rue des Industries 9 \, Conthey \, Switzerland)
SUMMARY:Le Cercle - TechThat by Back2Noize
URL:https://le-cercle.ch/past-events/evenement/180-le-cercle-techthat-by-ba
 ck2noize.html
END:VEVENT
END:VCALENDAR
