BEGIN:VCALENDAR
VERSION:2.0
PRODID:-//https://le-cercle.ch///NONSGML kigkonsult.se iCalcreator 2.10.15//
METHOD:PUBLISH
BEGIN:VEVENT
UID:20260421T102136CEST-6020GnUNWH@https://le-cercle.ch/
DTSTAMP:20260421T082136Z
DESCRIPTION:Un moment de détente\, de partage\, une expérience idéale pour 
 des rencontres inattendues : Happy Good Times sera la nouvelle ligne conce
 ptuelle des événements aux sonorités avant-gardistes jamais entendues dans
  les parois du Cercle. De la #House à la #NuDisco avec un brin de #Funk et
  des #beats du monde entier se concentrerons dans cette sauce éclectique e
 t dynamique pour entraîner sur la piste les danseurs à la recherche de gro
 ove tendancieux. Expérimentation sans règle ni tabou\, cette nouvelle vagu
 e vous mènera à la redécouverte musicale avec un RDV bimensuel des Happy G
 ood Times… .:LINE-UP:.° Ramin&amp\;Reda° Psycho Weazel.:ENTRÉE:.18 ans rév
 olusCHF 10.- avant minuitCHF 15.- après.:TRANSPORT:.Le club se situe à 7 m
 inutes à pieds de la gare de Châteauneuf-ContheyGrand parking gratuit et s
 écurisé à votre disposition .:INFORMATIONS ET RÉSERVATIONS:.Le Cercle Club
 Rue des industries 91964 ContheyAu sous-sol027 346 00 00http://www.cercle-
 club.ch/ - admin@cercle-club.ch.:PARTENAIRES:.Back2Noizehttps://www.facebo
 ok.com/Back2Noize/.:SOUNDCLOUD:.https://soundcloud.com/cercle-octave https
 ://le-cercle.ch/past-events/evenement/169-happy-good-times-w-ramin-reda-v-
 s-psycho-weazel.html
DTSTART:20190831T230000Z
DTEND:20190901T050000Z
LOCATION:Le Cercle (Rue des Industries 9 \, Conthey \, Switzerland)
SUMMARY:HAPPY GOOD TIMES w/ Ramin&Reda v/s Psycho Weazel
URL:https://le-cercle.ch/past-events/evenement/169-happy-good-times-w-ramin
 -reda-v-s-psycho-weazel.html
END:VEVENT
END:VCALENDAR
