BEGIN:VCALENDAR
VERSION:2.0
PRODID:-//https://le-cercle.ch///NONSGML kigkonsult.se iCalcreator 2.10.15//
METHOD:PUBLISH
BEGIN:VEVENT
UID:20260421T115605CEST-3112DJ7nBP@https://le-cercle.ch/
DTSTAMP:20260421T095605Z
DESCRIPTION:Nachtfalter revient en force pour sa troisième édition afin de 
 clôturer l’été comme il se doit et commencer la nouvelle saison avec hosti
 lité. Le concept reste le même\, ambiance barbare et sonorités sombres. Au
  menu notre résident Irrational Reflexion et sa sélection de tracks à vous
  rendre fous\, suivi par notre second résident Laplaja et ses sonorités ra
 ve/acid d’un autre temps. Pour finir\, Stahel viendra directement de Berli
 n pour vous offrir sur un plateau un opening de techno pure et captivante.
  .:LINE-UP:./// IRRATIONAL REFLECTION (Valais)https://facebook.com/Irratio
 nalReflection/https://soundcloud.com/irrational_reflection/// LAPLAJA (Val
 ais)https://facebook.com/lpljahttps://soundcloud.com/laplaja_music/// STAH
 EL (Berlin)https://facebook.com/1Stahel/https://soundcloud.com/1stahel.:EN
 TRÉE:.18 ans révolusCHF 10.- avant minuitCHF 15\,. après.:TRANSPORT:.Le cl
 ub se situe à 7 minutes à pieds de la gare de Châteauneuf-ContheyGrand par
 king gratuit et surveillé à votre disposition.:INFORMATIONS ET RÉSERVATION
 S:.Le Cercle ClubRue des industries 91964 ContheyAu sous-sol027 / 346-00-0
 0http://www.cercle-club.ch/ - admin@cercle-club.ch.:PARTENAIRES:.Back2Noiz
 ehttps://www.facebook.com/Back2Noize/.:SOUNDCLOUD:.https://soundcloud.com/
 cercle-octave https://le-cercle.ch/past-events/evenement/168-nachtfalter-0
 03.html
DTSTART:20190830T230000Z
DTEND:20190831T050000Z
LOCATION:Le Cercle (Rue des Industries 9 \, Conthey \, Switzerland)
SUMMARY:Nachtfalter 003
URL:https://le-cercle.ch/past-events/evenement/168-nachtfalter-003.html
END:VEVENT
END:VCALENDAR
