BEGIN:VCALENDAR
VERSION:2.0
PRODID:-//https://le-cercle.ch///NONSGML kigkonsult.se iCalcreator 2.10.15//
METHOD:PUBLISH
BEGIN:VEVENT
UID:20260421T113934CEST-1111vV0BD4@https://le-cercle.ch/
DTSTAMP:20260421T093934Z
DESCRIPTION:#streeparade #before Afin d'obtenir ton grade de warrior du Cer
 cle\, la Before du vendredi tu feras avant de monter dans le Street Bus - 
 Un Warrior tu devras être !PS : Si tu fais que le vendredi\, on t'en voudr
 as pas mais ton grade à jamais sera compromis!.:LINE-UP BEFORE CERCLE:.° M
 anuHeme° NoName° Yoni Banks &amp\; Yan Ka (Underground Connexion Records).
 :PRIX ET BILLETS:. www.cercle-club.ch ou directement au Cercle18 ans révol
 usBefore Cercle: CHF 10.-Streetbus + Before Cercle (aller-retour): 70.-www
 .cercle-club.ch ou directement au Cercle pendant l'ouverture(CFF Plein tar
 if = CHF 200.-)Aller :07.15 : Rendez-vous à Conthey\, L'Octave\, Rue des I
 ndustries 9Accueil des passagers07.30 : Départ via autoroute Vevey\, Berne
  pour Zürich11.00 : Env.\, arrivée à Zürich\, gare routièreDépart de la pa
 rade : 14h00Retour 11.08.1904.45 : Rendez-vous à Zürich\, gare routièreAcc
 ueil des passagers05.00 : Départ via même itinéraire pour retour à Conthey
 08.30 : Env. arrivée à Conthey\, L'OctaveAfter party :Pour des raisons d’o
 rganisation\, il est plus simple que les billets pour les After Party soie
 nt pris directement par vos soins. En voici quelques-unes :Trance :https:/
 /www.facebook.com/events/361051478026956/Lethargy Festival 2019https://www
 .facebook.com/events/389753095225637/?event_time_id=389753101892303Il y a 
 également pas mal de scènes qui tournent la nuit en extérieur sur Zurich. 
 De quoi faire..:TRANSPORT CERCLE:.Le club se situe à 7 minutes à pieds de 
 la gare de Châteauneuf-ContheyGrand parking gratuit et sécurisé à votre di
 sposition .:INFORMATIONS ET RÉSERVATIONS:.Le Cercle ClubRue des industries
  91964 ContheyAu sous-sol027 346 00 00http://www.cercle-club.ch/ - admin@c
 ercle-club.ch https://le-cercle.ch/past-events/evenement/164-le-cercle-bef
 ore-street.html
DTSTART:20190809T000000Z
DTEND:20190810T050000Z
LOCATION:Le Cercle (Rue des Industries 9 \, Conthey \, Switzerland)
SUMMARY:Le Cercle Before Street
URL:https://le-cercle.ch/past-events/evenement/164-le-cercle-before-street.
 html
END:VEVENT
END:VCALENDAR
