BEGIN:VCALENDAR
VERSION:2.0
PRODID:-//https://le-cercle.ch///NONSGML kigkonsult.se iCalcreator 2.10.15//
METHOD:PUBLISH
BEGIN:VEVENT
UID:20260420T112748CEST-9343dejsUU@https://le-cercle.ch/
DTSTAMP:20260420T092748Z
DESCRIPTION:.:25 novembre 2017 :. ◥ TECHNO MINIMAL TECHNO ◤ SORY https://ww
 w.facebook.com/SORY-119959501524214/ JOYCE MEDI https://www.facebook.com/d
 jneverdie/ .:ENTREE:. 18 ans révolus Chf 10.- avant minuit Chf 15.- après 
 .:TRANSPORT:. Le club est à 7 minutes à pieds de la gare de Châteauneuf-Co
 nthey .:INFORMATIONS ET RESERVATIONS:. Le Cercle Club Rue des industries 9
  1964 Conthey Au sous-sol 078 / 746-63-49 http://www.cercle-club.ch/ - adm
 in@cercle-club.ch .:PARTENAIRES:. Back2Noize https://www.facebook.com/Back
 2Noize/ https://le-cercle.ch/past-events/evenement/11-le-cercle-techno.htm
 l
DTSTART:20171125T220000Z
DTEND:20171126T040000Z
LOCATION:Le Cercle (Rue des Industries 9 \, Conthey \, Switzerland)
SUMMARY:Le Cercle - Techno
URL:https://le-cercle.ch/past-events/evenement/11-le-cercle-techno.html
END:VEVENT
END:VCALENDAR
