BEGIN:VCALENDAR
VERSION:2.0
PRODID:-//https://le-cercle.ch///NONSGML kigkonsult.se iCalcreator 2.10.15//
METHOD:PUBLISH
BEGIN:VEVENT
UID:20260420T113321CEST-7197HCuSu7@https://le-cercle.ch/
DTSTAMP:20260420T093321Z
DESCRIPTION::LINE-UP:.// PABLO MENDEShttps://www.facebook.com/pablo.mendes.
 official/// NONAMEhttps://www.facebook.com/noname.swiss/// SWOOKERhttps://
 www.facebook.com/Swooker/.:ENTRÉE:.18 ans révolusCHF 10.- avant minuitCHF 
 15\,. après.:TRANSPORT:.Le club se situe à 7 minutes à pieds de la gare de
  Châteauneuf-ContheyGrand parking gratuit et surveillé à votre disposition
 .:INFORMATIONS ET RÉSERVATIONS:.Le Cercle ClubRue des industries 91964 Con
 theyAu sous-sol027 / 346-00-00http://www.cercle-club.ch/ - admin@cercle-cl
 ub.ch https://le-cercle.ch/past-events/evenement/108-le-cercle-pablo-mende
 s-noname.html
DTSTART:20181116T230000Z
DTEND:20181117T050000Z
LOCATION:Le Cercle (Rue des Industries 9 \, Conthey \, Switzerland)
SUMMARY:Le Cercle - Pablo Mendes NoName
URL:https://le-cercle.ch/past-events/evenement/108-le-cercle-pablo-mendes-n
 oname.html
END:VEVENT
END:VCALENDAR
