BEGIN:VCALENDAR
VERSION:2.0
PRODID:-//https://le-cercle.ch///NONSGML kigkonsult.se iCalcreator 2.10.15//
METHOD:PUBLISH
BEGIN:VEVENT
UID:20260419T153110CEST-9068HHL0Ko@https://le-cercle.ch/
DTSTAMP:20260419T133110Z
DESCRIPTION:Cas d'etude n.0005Toxicité neuronale combinéeTVB - wav909 &amp\
 ; 7thraw ( Mekanikal Bloodshed )93SOVAGE ( Mekanikal Bloodshed )L'autopsie
  est prévue des 23h..///// SAVE THE DATE ///// ---------------------------
 --------.:ENTRÉE (Via l'Octave):.18 ans révolusCHF 20.- comprend soirée Oc
 tave Joachim Garraud------------------------------------.:TRANSPORT:.Le cl
 ub est à 7 minutes à pieds de la gare de Châteauneuf-ContheyBus navette gr
 atuit depuis Sion.:INFORMATIONS ET RÉSERVATIONS:.Le Cercle ClubRue des ind
 ustries 91964 ContheyAu sous-sol078 / 746-63-49http://www.cercle-club.ch/ 
 - admin@cercle-club.ch https://le-cercle.ch/past-events/evenement/105-necr
 ose-fig-5.html
DTSTART:20181027T230000Z
DTEND:20181028T050000Z
LOCATION:Le Cercle (Rue des Industries 9 \, Conthey \, Switzerland)
SUMMARY:Nécrose fig.5
URL:https://le-cercle.ch/past-events/evenement/105-necrose-fig-5.html
END:VEVENT
END:VCALENDAR
